BEGIN:VCALENDAR
VERSION:2.0
CALSCALE:GREGORIAN
TZID:Europe/Berlin
X-LIC-LOCATION:Europe/Berlin
PRODID:https://linke-rdeck.de
METHOD:PUBLISH
BEGIN:VEVENT
DTSTART:20260501T100000
DTEND:20260501T130000
LOCATION:, 
ORGANISATOR:DGB
DTSTAMP:20260424T090852
SUMMARY:Tag der Arbeit (Region Eckernförde)
DESCRIPTION:Auch in der Region Eckernförde sind wir wieder am Tag der Arbeit vertreten. Alle sind aufgerufen, sich ab 10:00 am Gedenkstein Petersberg zu versammeln und sich der Demo zur Hafenspitze anzuschließen, wo um 11:00 Uhr die Kundgebung beginnt. Als Die Linke sind wir – wie schon in den letzten Jahren – an der Hafenspitze vertreten. Das ist, was wir aktuell tun müssen: Solidarisch und laut die Rechte der Arbeiter*innen verteidigen, gegen Merz und die Black-Rote Regierung, gegen Arbeitgeberverände und Kapital. 
UID:20260424T090852-20260501T100000-20260501T130000
END:VEVENT
END:VCALENDAR