BEGIN:VCALENDAR
VERSION:2.0
CALSCALE:GREGORIAN
TZID:Europe/Berlin
X-LIC-LOCATION:Europe/Berlin
PRODID:https://linke-rdeck.de
METHOD:PUBLISH
BEGIN:VEVENT
DTSTART:20260424T180000
DTEND:20260424T203000
LOCATION:, Schleifmühlenstraße 20, 24768 Rendsburg
ORGANISATOR:Die Linke Rendsburg-Eckernförde
DTSTAMP:20260420T170432
SUMMARY:Einkaufen als Wissenschaft
DESCRIPTION:Einkaufen ist etwas Alltägliches. Allerdings ist jedeKaufentscheidung, die wir dabei tätigen,auch mit einigen Konsequenzen verbunden:Welche Unternehmen unterstützen wir mit unserem Geld?Wie viel Verpackungsmüll fällt dabei an? Machen wir unsvielleicht mitverantwortlich für Umweltzerstörung,Ausbeutung, Tierleid oder sogar Kinder- und Sklavenarbeit? Alles nicht so einfach, wenn man beim Einkaufennachhaltig unterwegs sein möchte … Was kann jede:r Einzelne zum Positiven verändern und womuss die Politik ran? Diese Fragen wollen wirgemeinsam diskutieren. Programmkurzbeschreibung Interaktiver Einstieg: Was packe ich in meinen virtuellen Einkaufswagen? Was, wo, von wem, wann, woher? Fragen über Fragen beim Einkauf. Offene Diskussion der vorgestellten Punkte und Ideen, die jede*r Einzelne umsetzen kann. 
UID:20260420T170432-20260424T180000-20260424T203000
END:VEVENT
END:VCALENDAR